BEGIN:VCALENDAR
VERSION:2.0
PRODID:-//Eleonora Solero - ECPv5.3.2.1//NONSGML v1.0//EN
CALSCALE:GREGORIAN
METHOD:PUBLISH
X-WR-CALNAME:Eleonora Solero
X-ORIGINAL-URL:https://www.eleonorasolero.it
X-WR-CALDESC:Eventi per Eleonora Solero
BEGIN:VTIMEZONE
TZID:Europe/Rome
BEGIN:DAYLIGHT
TZOFFSETFROM:+0100
TZOFFSETTO:+0200
TZNAME:CEST
DTSTART:20230326T010000
END:DAYLIGHT
BEGIN:STANDARD
TZOFFSETFROM:+0200
TZOFFSETTO:+0100
TZNAME:CET
DTSTART:20231029T010000
END:STANDARD
END:VTIMEZONE
BEGIN:VEVENT
DTSTART;TZID=Europe/Rome:20230820T080000
DTEND;TZID=Europe/Rome:20230820T170000
DTSTAMP:20260420T090906
CREATED:20230613T043131Z
LAST-MODIFIED:20230613T043131Z
UID:1398-1692518400-1692550800@www.eleonorasolero.it
SUMMARY:YOGA TREKKING
DESCRIPTION:
URL:https://www.eleonorasolero.it/evento/yoga-trekking-2/
ATTACH;FMTTYPE=image/jpeg:https://www.eleonorasolero.it/wp-content/uploads/2023/06/IMG-20230531-WA0012.jpg
END:VEVENT
END:VCALENDAR