BEGIN:VCALENDAR
VERSION:2.0
PRODID:-//Eleonora Solero - ECPv5.3.2.1//NONSGML v1.0//EN
CALSCALE:GREGORIAN
METHOD:PUBLISH
X-WR-CALNAME:Eleonora Solero
X-ORIGINAL-URL:https://www.eleonorasolero.it
X-WR-CALDESC:Eventi per Eleonora Solero
BEGIN:VTIMEZONE
TZID:Europe/Rome
BEGIN:DAYLIGHT
TZOFFSETFROM:+0100
TZOFFSETTO:+0200
TZNAME:CEST
DTSTART:20210328T010000
END:DAYLIGHT
BEGIN:STANDARD
TZOFFSETFROM:+0200
TZOFFSETTO:+0100
TZNAME:CET
DTSTART:20211031T010000
END:STANDARD
END:VTIMEZONE
BEGIN:VEVENT
DTSTART;TZID=Europe/Rome:20210722T144500
DTEND;TZID=Europe/Rome:20210722T180000
DTSTAMP:20260420T200747
CREATED:20210704T152408Z
LAST-MODIFIED:20210704T152619Z
UID:1358-1626965100-1626976800@www.eleonorasolero.it
SUMMARY:Rifugio Monte Ferro: il balcone panoramico di Sappada e aperitivo serale
DESCRIPTION:Rifugio Monte Ferro: il balcone panoramico di Sappada e aperitivo serale\nUna bellissima passeggiata immersi nel bosco di abeti\, circondati dal profumo di legno e muschio\, nella pace più assoluta fino a raggiungere il Rifugio Monte Ferro\, che per la sua strategica posizione è un vero e proprio balcone panoramico sulla sottostante vallata Sappadina. I bambini si divertiranno a vedere gli animali passeggiare liberi per i prati e le vecchie piste da sci dell’impianto ormai dismesso mentre voi farete una full immersion di panorama e relax. \nE per concludere in bellezza la nostra gita\, al termine dell’escursione\, ci coccoleremo con l’aperitivo presso il panificio bar Dorfarpeck. \nDIFFICOLTÀ: FACILE \nDISLIVELLO POSITIVO: circa 300 m \nLUNGHEZZA: 5 km circa \nPROGRAMMA: \nPartenza ore 14:45 da “Cima Sport 2” di Sappada (UD) Borgata Palù\, n. 45. \nEscursione ad anello con aperitivo presso il Bar Dorfarpeck \nDURATA: circa 4 ore soste incluse \nCOSTO: \nAdulti € 20\,00 \nBambini da 8 a 15 anni € 10\,00  (Età minima 8 anni) \nIl prezzo comprende accompagnamento da pare di Accompagnatore di Media Montagna e aperitivo serale. \nPRENOTAZIONE OBBLIGATORIA ENTRO LE 18:00 DEL 20/07/2021:\nSolero Eleonora\nTel: 348.2801978\nMail: info@eleonorasolero.it \nABBIGLIAMENTO RICHIESTO: calzatura da trekking\, abbigliamento sportivo\, antivento\, zainetto\, snacks acqua. \nNB: il programma potrebbe subire modifiche in caso di maltempo o di mancanza di adesioni. \n  \n 
URL:https://www.eleonorasolero.it/evento/rifugio-monte-ferro-il-balcone-panoramico-di-sappada-e-aperitivo-serale/
LOCATION:Sappada cima sport 2\, Borgata Palù 85\, Sappada\, Udine\, 32047
ATTACH;FMTTYPE=image/jpeg:https://www.eleonorasolero.it/wp-content/uploads/2021/07/353626_monteferro-estate.jpg
END:VEVENT
END:VCALENDAR