BEGIN:VCALENDAR
VERSION:2.0
PRODID:-//Eleonora Solero - ECPv5.3.2.1//NONSGML v1.0//EN
CALSCALE:GREGORIAN
METHOD:PUBLISH
X-WR-CALNAME:Eleonora Solero
X-ORIGINAL-URL:https://www.eleonorasolero.it
X-WR-CALDESC:Eventi per Eleonora Solero
BEGIN:VTIMEZONE
TZID:Europe/Rome
BEGIN:DAYLIGHT
TZOFFSETFROM:+0100
TZOFFSETTO:+0200
TZNAME:CEST
DTSTART:20200329T010000
END:DAYLIGHT
BEGIN:STANDARD
TZOFFSETFROM:+0200
TZOFFSETTO:+0100
TZNAME:CET
DTSTART:20201025T010000
END:STANDARD
END:VTIMEZONE
BEGIN:VEVENT
DTSTART;TZID=Europe/Rome:20201223T161500
DTEND;TZID=Europe/Rome:20201223T203000
DTSTAMP:20260421T063736
CREATED:20201219T205803Z
LAST-MODIFIED:20201219T210156Z
UID:1329-1608740100-1608755400@www.eleonorasolero.it
SUMMARY:“ L’ANTI LOCK CIASPA” in Cinque Torri
DESCRIPTION:Tramonto\, neve\, natura\, silenzio e tutto intorno a noi molte tra le montagne più belle e famose delle Dolomiti. Cosa possiamo volere di più? Ecco cosa vi aspetterà durante questa ciaspolata notturna in Cinque Torri. Passeggiando tra boschi e passando tra torrioni di roccia raggiungeremo il Rifugio Scoiattoli. \nQui lo sguardo sarà immediatamente catturato dal maestoso Lagazuoi e dalle Tofane che svettano trionfanti di fronte a noi. Per coronare in bellezza discesa al chiarore di stelle! \nDIFFICOLTÀ: MEDIA \nDISLIVELLO POSITIVO: circa 350 m \nLUNGHEZZA: 6 km circa \nPROGRAMMA: \nOre 16.15 ritrovo al parcheggio Passo Falzarego 3 Parking (posizione 46.5188113\,12.037764)\, nei pressi della Baita Bai de Dones. Ciaspolata notturna con giro ad anello. \nDURATA: circa 4 ore soste incluse \nCOSTO: \nAdulti € 35\,00 \nEtà minima 16 anni\, non adatto ai bambini \nIl costo comprende servizio di accompagnamento da parte di Guida Alpina e Accompagnatore di Media Montagna e fornitura ciaspole. \nPRENOTAZIONE OBBLIGATORIA ENTRO LE 20:00 DEL 22/12/20: \nSolero Eleonora: 348.2801978\nMail: info@eleonorasolero.it \nMauro Zannoni: 338.1084833 \nMail: zannonimauro73@libero.it \nLE GUIDE: \nEleonora Solero\nAMM Collegio Guide Alpine Veneto e International Mountain Leader UIMLA\nwww.eleonorasolero.it \nMauro Zannoni \nGuida Alpina\, Maestro di sci \nwww.guidetrecimedilavaredo.it \nABBIGLIAMENTO RICHIESTO:  calzatura da trekking obbligatoriamente no moon boot\, abbigliamento adatto alla stagione\, piumino\, berretto\, guanti\, antivento\, zainetto\, pila frontale\, bastoni da trekking. \nACCESSORI CONSIGLIATI: acqua\, the caldo\, cioccolata/ snacks\, cambio completo da tenere sempre in auto. \nNB: il programma potrà subire variazioni in caso di maltempo.
URL:https://www.eleonorasolero.it/evento/lanti-lock-ciaspa-in-cinque-torri/
LOCATION:Parcheggio Passo Falzarego\, Località Bai de Dones\, Cortina d'Ampezzo\, BL\, Italia
ATTACH;FMTTYPE=image/jpeg:https://www.eleonorasolero.it/wp-content/uploads/2020/01/sci-alpinismo-Lagazuoi-5-Torri.jpg
END:VEVENT
END:VCALENDAR