BEGIN:VCALENDAR
VERSION:2.0
PRODID:-//Eleonora Solero - ECPv5.3.2.1//NONSGML v1.0//EN
CALSCALE:GREGORIAN
METHOD:PUBLISH
X-WR-CALNAME:Eleonora Solero
X-ORIGINAL-URL:https://www.eleonorasolero.it
X-WR-CALDESC:Eventi per Eleonora Solero
BEGIN:VTIMEZONE
TZID:Europe/Rome
BEGIN:DAYLIGHT
TZOFFSETFROM:+0100
TZOFFSETTO:+0200
TZNAME:CEST
DTSTART:20210328T010000
END:DAYLIGHT
BEGIN:STANDARD
TZOFFSETFROM:+0200
TZOFFSETTO:+0100
TZNAME:CET
DTSTART:20211031T010000
END:STANDARD
END:VTIMEZONE
BEGIN:VEVENT
DTSTART;TZID=Europe/Rome:20210811T093000
DTEND;TZID=Europe/Rome:20210811T163000
DTSTAMP:20260420T121727
CREATED:20210808T121508Z
LAST-MODIFIED:20210808T121512Z
UID:1384-1628674200-1628699400@www.eleonorasolero.it
SUMMARY:La Rocheta de Prendera
DESCRIPTION:La Rocheta de Prendera\nL’emozione di raggiungere con le proprie forze una splendida e poco frequentata vetta dolomitica è sempre un qualcosa di unico. La Rocheta de Prendera è magica\, un vero e proprio balcone delle meraviglie. Provare per credere!\nRitrovo: ore 9.30 al park del Rifugio città di Fiume o in alternativa ore 7.30 allo Sportler di Silea\n\nInformazioni tecniche escursione:\nDislivello: 900 metri circa\n\nDifficoltà: E – facile fino alla malga Prendera\, E medio/impegnativo nel tratto di sentiero che porta in cima alla Rocchetta\, con brevi tratti EE.\n\nAbbigliamento e attrezzatura\nScarponcini alti alla caviglia con ottima suola scolpita\, zaino (no borse a tracolla)\, maglia in tessuto traspirante\,\npile o maglione\, giacca antivento/antipioggia. Bastoncini da escursionismo consigliati.\nBorraccia con almeno 1 litro d’acqua e pranzo al sacco.\n\nRientro: tardo pomeriggio\n\nCosto dell’iniziativa: 25 euro a persona per accompagnamento professionale.\n\n\nPer il trasporto si utilizzano i mezzi propri\, eventualmente ottimizzando i posti auto\, con suddivisione delle spese vive tra i partecipanti.\n\nPer info e adesioni:\nMattia: 345 9271454
URL:https://www.eleonorasolero.it/evento/la-rocheta-de-prendera/
LOCATION:Parcheggio Rif. Città di Fiume\, Passo Staulanza\, Val di Zoldo\, Italia
ATTACH;FMTTYPE=image/jpeg:https://www.eleonorasolero.it/wp-content/uploads/2019/10/38653467_1827741300638970_651379284186759168_n.jpg
END:VEVENT
END:VCALENDAR