BEGIN:VCALENDAR
VERSION:2.0
PRODID:-//Eleonora Solero - ECPv5.3.2.1//NONSGML v1.0//EN
CALSCALE:GREGORIAN
METHOD:PUBLISH
X-WR-CALNAME:Eleonora Solero
X-ORIGINAL-URL:https://www.eleonorasolero.it
X-WR-CALDESC:Eventi per Eleonora Solero
BEGIN:VTIMEZONE
TZID:Europe/Rome
BEGIN:DAYLIGHT
TZOFFSETFROM:+0100
TZOFFSETTO:+0200
TZNAME:CEST
DTSTART:20210328T010000
END:DAYLIGHT
BEGIN:STANDARD
TZOFFSETFROM:+0200
TZOFFSETTO:+0100
TZNAME:CET
DTSTART:20211031T010000
END:STANDARD
END:VTIMEZONE
BEGIN:VEVENT
DTSTART;TZID=Europe/Rome:20210620T170000
DTEND;TZID=Europe/Rome:20210620T223000
DTSTAMP:20260421T004635
CREATED:20210611T072652Z
LAST-MODIFIED:20210611T072654Z
UID:1351-1624208400-1624228200@www.eleonorasolero.it
SUMMARY:Aspettando il tramonto sul Monte Cesen
DESCRIPTION:Aspettando il tramonto sul Monte Cesen\nSebbene da molti vengano sottovalutate\, le Prealpi Venete nulla hanno da invidiare ai panorami indimenticabili delle più famose Dolomiti. Se poi riusciamo anche ad evitare le code domenicali il gioco è fatto:)\nIl pezzo forte invece lo “gusterete” quando il sole inizierà a calare sotto l’orizzonte…uno spettacolo di colori che ci regalerà emozioni grandiose…\nNon avete mai visto un tramonto in montagna per poi scendere con le pile frontali? Beh c’è sempre una prima volta!\n\nDIFFICOLTÀ: FACILE/MEDIO\n\nDISLIVELLO POSITIVO: circa 500 m\n\nLUNGHEZZA: 12 km circa\n\nPROGRAMMA:\nRitrovo ore 17.00 a Pianezze di Valdobbiadene. Link Maps: https://goo.gl/maps/B5qkYbFMuPdh23Mt5\nCamminata serale sul Monte Cesen e rientro in notturna. Cena al sacco.\n\nDURATA: circa 6 ore soste incluse\n\nCOSTO:\nAdulti € 25\,00\nRagazzi dai 15 ai 18 anni € 15\,00.\nNon adatto ai bambini\n\nPRENOTAZIONE OBBLIGATORIA ENTRO LE 18:00 DEL 18/06/2021:\nMattia Pizzoli\nTel: 345.9271454\nMail: camminandoattraverso@gmail.com\n\nLE GUIDE:\nMattia Pizzoli\nGuida Ambientale Escursionistica associato ad AIML e Accompagnatore di Media Montagna.\n\nEleonora Solero\nAMM Collegio Guide Alpine Veneto e International Mountain Leader UIMLA\nwww.eleonorasolero.it\n\nEQUIPAGGIAMENTO RICHIESTO: calzatura da trekking\, abbigliamento sportivo adatto alla stagione\, piumino\, antivento\, zainetto\, PILA FRONTALE\, guanti\, berretto\, acqua o the caldo\, cena al sacco.\n\nEQUIPAGGIAMENTO CONSIGLIATO: bastoni da trekking\, occhiali da sole\, crema solare\, un cambio completo da tenere sempre in auto.\n\nNB: il programma potrebbe subire modifiche in caso di maltempo o di mancanza di adesioni.
URL:https://www.eleonorasolero.it/evento/aspettando-il-tramonto-sul-monte-cesen/
LOCATION:Pianezze di Valdobbiadene\, Pianezze di Valdobbiadene\, TV\, Italia
ATTACH;FMTTYPE=image/jpeg:https://www.eleonorasolero.it/wp-content/uploads/2021/06/TRAM-CEDE.jpg
END:VEVENT
END:VCALENDAR