BEGIN:VCALENDAR
VERSION:2.0
PRODID:-//Eleonora Solero - ECPv5.3.2.1//NONSGML v1.0//EN
CALSCALE:GREGORIAN
METHOD:PUBLISH
X-WR-CALNAME:Eleonora Solero
X-ORIGINAL-URL:https://www.eleonorasolero.it
X-WR-CALDESC:Eventi per Eleonora Solero
BEGIN:VTIMEZONE
TZID:Europe/Rome
BEGIN:DAYLIGHT
TZOFFSETFROM:+0100
TZOFFSETTO:+0200
TZNAME:CEST
DTSTART:20210328T010000
END:DAYLIGHT
BEGIN:STANDARD
TZOFFSETFROM:+0200
TZOFFSETTO:+0100
TZNAME:CET
DTSTART:20211031T010000
END:STANDARD
END:VTIMEZONE
BEGIN:VEVENT
DTSTART;TZID=Europe/Rome:20210711T090000
DTEND;TZID=Europe/Rome:20210711T160000
DTSTAMP:20260420T231206
CREATED:20210704T151907Z
LAST-MODIFIED:20210704T151912Z
UID:1356-1625994000-1626019200@www.eleonorasolero.it
SUMMARY:Anello dei Settsass
DESCRIPTION:Anello dei Settsass\nSe volete gustarvi l’occhio allora questa è l’escursione che fa per voi. Farete una vera e propria scorpacciata di Dolomiti. Marmolada\, Sella\, Conturines\, Lagazuoi\, Cinque Torri\, sono solo alcuni dei famosi gruppi che ammireremo. \nPasseggeremo su un autentico balcone panoramico da cui vi sembrerà di toccar tutte le cime con un dito\, provare per credere\, poi non vorrete più tornare a casa! \nDIFFICOLTÀ:MEDIO/IMPEGNATIVA – EE per escursionisti esperti \nDISLIVELLO POSITIVO: circa 950 m \nLUNGHEZZA: 12 km circa \nPROGRAMMA: \nPartenza alle ore 9:00 dal Parking Valparola nei pressi del Museo Forte tre Sassi Loc. Passo Valparola (BL). \nCoordinate GPS: 46.5278775\,11.9892666 \nEscursione ad anello con pranzo al sacco \nDURATA: circa 7 ore soste incluse \nCOSTO: \nAdulti € 25\,00 \nEtà minima 16 anni\, non adatto ai bambini \nPRENOTAZIONE OBBLIGATORIA ENTRO LE 18:00 DEL 09/07/2021:\nSolero Eleonora\nTel: 348.2801978\nMail: info@eleonorasolero.it \nABBIGLIAMENTO RICHIESTO: calzatura da trekking\, abbigliamento sportivo\, antivento\, zainetto\, bastoncini. \nACCESSORI CONSIGLIATI: acqua\, pranzo al sacco\, frutta secca\, crema solare\, berrettino\, un cambio completo da tenere sempre in auto. \nNB: il programma potrebbe subire modifiche in caso di maltempo o di mancanza di adesioni. Escursione a numero chiuso.
URL:https://www.eleonorasolero.it/evento/anello-dei-settsass-2/
LOCATION:Parking Valparola\, strada provinciale 24 del passo Valparola\, Passo Valparola\, bl\, Italia
ATTACH;FMTTYPE=image/jpeg:https://www.eleonorasolero.it/wp-content/uploads/2019/08/settsass.jpg
END:VEVENT
END:VCALENDAR