BEGIN:VCALENDAR
VERSION:2.0
PRODID:-//Eleonora Solero - ECPv5.3.2.1//NONSGML v1.0//EN
CALSCALE:GREGORIAN
METHOD:PUBLISH
X-WR-CALNAME:Eleonora Solero
X-ORIGINAL-URL:https://www.eleonorasolero.it
X-WR-CALDESC:Eventi per Eleonora Solero
BEGIN:VTIMEZONE
TZID:Europe/Rome
BEGIN:DAYLIGHT
TZOFFSETFROM:+0100
TZOFFSETTO:+0200
TZNAME:CEST
DTSTART:20210328T010000
END:DAYLIGHT
BEGIN:STANDARD
TZOFFSETFROM:+0200
TZOFFSETTO:+0100
TZNAME:CET
DTSTART:20211031T010000
END:STANDARD
END:VTIMEZONE
BEGIN:VEVENT
DTSTART;TZID=Europe/Rome:20210729T090000
DTEND;TZID=Europe/Rome:20210801T170000
DTSTAMP:20260420T170550
CREATED:20210507T203519Z
LAST-MODIFIED:20210507T203522Z
UID:1337-1627549200-1627837200@www.eleonorasolero.it
SUMMARY:4 giorni tra Pelmo\, Civetta e Moiazza
DESCRIPTION:4 giorni tra Pelmo\, Civetta e Moiazza\nQuesto trekking è un piccolo viaggio attraverso tre magnifiche valli dolomitiche\, le cui imponenti cime\, il Pelmo\, il Civetta e la Moiazza\, rendono questo itinerario uno dei più affascinanti delle Dolomiti occidentali. \n Partendo dal Cadore ci avvicineremo alle maestose pareti del Pelmo e percorrendo le sue pendici meridionali ci porteremo in Val di Zoldo. Da qui saliremo fino quasi a toccare le pareti nord del Civetta\, con una vista ed un tramonto mozzafiato sull’Agordino e sulla Marmolada. Infine\, con un giro quasi ad anello si raggiungerà di nuovo la Val di Zoldo\, dopo aver ammirato le spettacolari conformazioni rocciose della Moiazza. \nUn percorso prevalentemente in quota\, che ci permetterà di attraversare diverse tipologie di ambienti montani. \nMenzione speciale meritano però i tramonti: non lasciatevi scappare la possibilità di godere di strepitosi tramonti dormendo in bellissimi rifugi in quota!!
URL:https://www.eleonorasolero.it/evento/4-giorni-tra-pelmo-civetta-e-moiazza/
LOCATION:forno di zoldo tana ors\, via roma 28\, Forno di Zoldo\, BL\, Italia
ATTACH;FMTTYPE=image/jpeg:https://www.eleonorasolero.it/wp-content/uploads/2021/05/coldai-piu-civetta-sistemata.jpg
END:VEVENT
END:VCALENDAR